BEGIN:VCALENDAR
VERSION:2.0
PRODID:-//wp-events-plugin.com//7.2.3.1//EN
TZID:Europe/Stockholm
X-WR-TIMEZONE:Europe/Stockholm
BEGIN:VEVENT
UID:86@visastockholm.se
DTSTART;TZID=Europe/Stockholm:20160508T130000
DTEND;TZID=Europe/Stockholm:20160508T140000
DTSTAMP:20160318T151752Z
URL:https://visastockholm.se/events/barnvandring-i-gamla-stan-sjoodjur-dra
 kar-och-tokiga-kungamediciner-2016-05-08/
SUMMARY:Barnvandring i Gamla Stan - Sjöodjur\, Drakar och Tokiga kungamedi
 ciner
DESCRIPTION:En vandring för barn mellan 5 – 10 år och modiga vuxna.\nGu
 ideturen går genom Gamla Stan där vi får följa historien om de två ba
 rnen Frögunn och Ask och deras vardagsliv från stadens födelse och en b
 it in på senare medeltiden. Vi tar del av historiens myter\, folktro och 
 sagor.\nVi går i skumma\, läbbiga gränder där det spökade och spökar
  än idag och vi hör berättelsen om en otäck gubbe som var stadens för
 sta polis och hade ett fängelse under köksgolvet.\nVi får även höra v
 ilka straff man kunde få om man tjuvade och var en bov.\nFör att barnen 
 ska förstå och kunna leva sig in i historien så berättar vi på barnen
 s språk och visar stora färgstarka illustrationer som stöd till berätt
 elsen som är gjorda av den kända konstnären Annika Nordenskiöld.\nVi f
 år känna och lukta på olika skumma saker som guiden har med sig: kanonk
 ulor\, äcklig och tokig kungapest-medicin bestående av sjuttiotvå ingre
 dienser bl. innehåll av mumiepulver samt prövar på vad som kan vara bra
  att stoppa i näsan om man blödde näsblod på medeltiden.\nGuidningen g
 år utomhus och tar ca 60 minuter.\nPassar barn mellan 5 – 10 år samt m
 odiga vuxna.\nStartar från Mynttorget i Gamla Stan\, T-bana Gamla Stan. M
 ynttorget ligger mellan Riksdagshuset och Kungliga Slottet.\n[Best_Wordpre
 ss_Gallery id="3" gal_title="GamlaStan1"]
ATTACH;FMTTYPE=image/jpeg:https://visastockholm.se/wp-content/uploads/Gaml
 a-stan-1-mod.jpg
CATEGORIES:barn
LOCATION:Mynttorget\, Gamla Stan\, Mynttorget 1\, Stockholm\, 111 28\, Sver
 ige
GEO:59.3265783;18.068956200000002
X-APPLE-STRUCTURED-LOCATION;VALUE=URI;X-ADDRESS=Mynttorget 1\, Stockholm\, 
 111 28\, Sverige;X-APPLE-RADIUS=100;X-TITLE=Mynttorget\, Gamla Stan:geo:59
 .3265783,18.068956200000002
END:VEVENT
BEGIN:VTIMEZONE
TZID:Europe/Stockholm
X-LIC-LOCATION:Europe/Stockholm
BEGIN:DAYLIGHT
DTSTART:20160327T030000
TZOFFSETFROM:+0100
TZOFFSETTO:+0200
TZNAME:CEST
END:DAYLIGHT
END:VTIMEZONE
END:VCALENDAR