BEGIN:VCALENDAR
VERSION:2.0
PRODID:-//wp-events-plugin.com//7.2.3.1//EN
TZID:Europe/Stockholm
X-WR-TIMEZONE:Europe/Stockholm
BEGIN:VEVENT
UID:1@visastockholm.se
DTSTART;TZID=Europe/Stockholm:20160124T120000
DTEND;TZID=Europe/Stockholm:20160124T130000
DTSTAMP:20160121T105928Z
URL:https://visastockholm.se/events/guidning-1/
SUMMARY:Guidning 1
DESCRIPTION:asdfasdfvaf adfasdf asdfasdf
ATTACH;FMTTYPE=image/jpeg:https://visastockholm.se/wp-content/uploads/visa
 sthlm_34.jpg
CATEGORIES:barn
LOCATION:Gamla Stan Kornhamnstorg\, Kornhamnstorg 1\, Stockholm\, 111 29\, 
 Sverige
GEO:59.32269340000001;18.071592099999975
X-APPLE-STRUCTURED-LOCATION;VALUE=URI;X-ADDRESS=Kornhamnstorg 1\, Stockholm
 \, 111 29\, Sverige;X-APPLE-RADIUS=100;X-TITLE=Gamla Stan Kornhamnstorg:ge
 o:59.32269340000001,18.071592099999975
END:VEVENT
BEGIN:VTIMEZONE
TZID:Europe/Stockholm
X-LIC-LOCATION:Europe/Stockholm
BEGIN:STANDARD
DTSTART:20151025T020000
TZOFFSETFROM:+0200
TZOFFSETTO:+0100
TZNAME:CET
END:STANDARD
END:VTIMEZONE
END:VCALENDAR